BEGIN:VCALENDAR
VERSION:2.0
PRODID:-//Maryland State Funeral Directors Association - ECPv6.15.20//NONSGML v1.0//EN
CALSCALE:GREGORIAN
METHOD:PUBLISH
X-WR-CALNAME:Maryland State Funeral Directors Association
X-ORIGINAL-URL:https://msfda.net
X-WR-CALDESC:Events for Maryland State Funeral Directors Association
REFRESH-INTERVAL;VALUE=DURATION:PT1H
X-Robots-Tag:noindex
X-PUBLISHED-TTL:PT1H
BEGIN:VTIMEZONE
TZID:America/New_York
BEGIN:DAYLIGHT
TZOFFSETFROM:-0500
TZOFFSETTO:-0400
TZNAME:EDT
DTSTART:20220313T070000
END:DAYLIGHT
BEGIN:STANDARD
TZOFFSETFROM:-0400
TZOFFSETTO:-0500
TZNAME:EST
DTSTART:20221106T060000
END:STANDARD
BEGIN:DAYLIGHT
TZOFFSETFROM:-0500
TZOFFSETTO:-0400
TZNAME:EDT
DTSTART:20230312T070000
END:DAYLIGHT
BEGIN:STANDARD
TZOFFSETFROM:-0400
TZOFFSETTO:-0500
TZNAME:EST
DTSTART:20231105T060000
END:STANDARD
BEGIN:DAYLIGHT
TZOFFSETFROM:-0500
TZOFFSETTO:-0400
TZNAME:EDT
DTSTART:20240310T070000
END:DAYLIGHT
BEGIN:STANDARD
TZOFFSETFROM:-0400
TZOFFSETTO:-0500
TZNAME:EST
DTSTART:20241103T060000
END:STANDARD
END:VTIMEZONE
BEGIN:VEVENT
DTSTART;VALUE=DATE:20230920
DTEND;VALUE=DATE:20230921
DTSTAMP:20260425T165438
CREATED:20230709T201437Z
LAST-MODIFIED:20230814T210301Z
UID:3200-1695168000-1695254399@msfda.net
SUMMARY:MSFDA September Quarterly Meeting
DESCRIPTION:Timeline:4:00 PM: Past Presidents’ Meeting (MSFDA Past Presidents)4:30 PM: Board of Directors/Quarterly Meeting – 1.0 CEU (MSFDA Members)5:30 PM: Cocktail Reception (All) – Hosted by the Maryland State Funeral Suppliers Association6:30 PM: Dinner (All) \nRegister by 9/12/23 by using the online form or download a paper copy.\nQuestions? Contact the Association Office at 410-553-7706 or msfda@msfda.net
URL:https://msfda.net/event/msfda-september-quarterly-meeting-2/
LOCATION:Dutch’s Daughter\, 581 Himes Ave\, Frederick\, MD\, 21703\, United States
CATEGORIES:Member Meeting
ATTACH;FMTTYPE=image/jpeg:https://msfda.net/wp-content/uploads/2023/07/dutch-s-daughter.jpg
ORGANIZER;CN="MSFDA":MAILTO:msfda@msfda.net
END:VEVENT
END:VCALENDAR