BEGIN:VCALENDAR
VERSION:2.0
PRODID:-//Maryland State Funeral Directors Association - ECPv6.15.20//NONSGML v1.0//EN
CALSCALE:GREGORIAN
METHOD:PUBLISH
X-WR-CALNAME:Maryland State Funeral Directors Association
X-ORIGINAL-URL:https://msfda.net
X-WR-CALDESC:Events for Maryland State Funeral Directors Association
REFRESH-INTERVAL;VALUE=DURATION:PT1H
X-Robots-Tag:noindex
X-PUBLISHED-TTL:PT1H
BEGIN:VTIMEZONE
TZID:America/New_York
BEGIN:DAYLIGHT
TZOFFSETFROM:-0500
TZOFFSETTO:-0400
TZNAME:EDT
DTSTART:20220313T070000
END:DAYLIGHT
BEGIN:STANDARD
TZOFFSETFROM:-0400
TZOFFSETTO:-0500
TZNAME:EST
DTSTART:20221106T060000
END:STANDARD
BEGIN:DAYLIGHT
TZOFFSETFROM:-0500
TZOFFSETTO:-0400
TZNAME:EDT
DTSTART:20230312T070000
END:DAYLIGHT
BEGIN:STANDARD
TZOFFSETFROM:-0400
TZOFFSETTO:-0500
TZNAME:EST
DTSTART:20231105T060000
END:STANDARD
BEGIN:DAYLIGHT
TZOFFSETFROM:-0500
TZOFFSETTO:-0400
TZNAME:EDT
DTSTART:20240310T070000
END:DAYLIGHT
BEGIN:STANDARD
TZOFFSETFROM:-0400
TZOFFSETTO:-0500
TZNAME:EST
DTSTART:20241103T060000
END:STANDARD
END:VTIMEZONE
BEGIN:VEVENT
DTSTART;TZID=America/New_York:20231213T160000
DTEND;TZID=America/New_York:20231213T210000
DTSTAMP:20260425T121418
CREATED:20230709T203831Z
LAST-MODIFIED:20231110T175846Z
UID:3218-1702483200-1702501200@msfda.net
SUMMARY:December Quarterly Meeting & Holiday Party
DESCRIPTION:Timeline:\n4:00 PM: Past Presidents’ Meeting (MSFDA Past Presidents)\n4:30 PM: Board of Directors & Quarterly Meeting – 1.0 CEU (MSFDA Members)\n5:30 PM: Cocktail Reception (All) – Hosted by the Maryland State Funeral Suppliers Association\n6:30 PM: Dinner (All) \nQuestions? Contact the Association Office at 410-553-7706 or msfda@msfda.net \nCocktail Reception & Dinner – Price: $75.00 \nRegistration required by 12/5/23\nDownload printable form to mail in | Register and pay online
URL:https://msfda.net/event/december-quarterly-meeting-holiday-party/
LOCATION:Elkridge Furnace Inn\, 5745 Furnace Ave\, Elkridge\, 21075
CATEGORIES:Member Meeting
ATTACH;FMTTYPE=application/pdf:https://msfda.net/wp-content/uploads/2023/07/Elkridge-Furnace-Inn-1.pdf
ORGANIZER;CN="MSFDA":MAILTO:msfda@msfda.net
END:VEVENT
END:VCALENDAR