BEGIN:VCALENDAR
VERSION:2.0
PRODID:-//Maryland State Funeral Directors Association - ECPv6.15.20//NONSGML v1.0//EN
CALSCALE:GREGORIAN
METHOD:PUBLISH
X-WR-CALNAME:Maryland State Funeral Directors Association
X-ORIGINAL-URL:https://msfda.net
X-WR-CALDESC:Events for Maryland State Funeral Directors Association
REFRESH-INTERVAL;VALUE=DURATION:PT1H
X-Robots-Tag:noindex
X-PUBLISHED-TTL:PT1H
BEGIN:VTIMEZONE
TZID:America/New_York
BEGIN:DAYLIGHT
TZOFFSETFROM:-0500
TZOFFSETTO:-0400
TZNAME:EDT
DTSTART:20230312T070000
END:DAYLIGHT
BEGIN:STANDARD
TZOFFSETFROM:-0400
TZOFFSETTO:-0500
TZNAME:EST
DTSTART:20231105T060000
END:STANDARD
BEGIN:DAYLIGHT
TZOFFSETFROM:-0500
TZOFFSETTO:-0400
TZNAME:EDT
DTSTART:20240310T070000
END:DAYLIGHT
BEGIN:STANDARD
TZOFFSETFROM:-0400
TZOFFSETTO:-0500
TZNAME:EST
DTSTART:20241103T060000
END:STANDARD
BEGIN:DAYLIGHT
TZOFFSETFROM:-0500
TZOFFSETTO:-0400
TZNAME:EDT
DTSTART:20250309T070000
END:DAYLIGHT
BEGIN:STANDARD
TZOFFSETFROM:-0400
TZOFFSETTO:-0500
TZNAME:EST
DTSTART:20251102T060000
END:STANDARD
END:VTIMEZONE
BEGIN:VEVENT
DTSTART;TZID=America/New_York:20240313T160000
DTEND;TZID=America/New_York:20240313T200000
DTSTAMP:20260425T075005
CREATED:20240206T131618Z
LAST-MODIFIED:20240206T142219Z
UID:2853-1710345600-1710360000@msfda.net
SUMMARY:MSFDA March Quarterly Meeting
DESCRIPTION:Timeline:\n4:00 PM – 4:30 PM: Past Presidents’ Meeting (MSFDA Past Presidents)\n4:30 PM – 5:30 PM: Board and Quarterly Meeting 1.0 CEU (MSFDA Members)\n5:30 PM – 6:30 PM: Cocktail Reception (All) Hosted by MSFSA\n6:30 PM – 8:00 PM: Dinner (All) \nRegistration deadline is March 5\, 2024. \nYou can register online or download a paper copy.
URL:https://msfda.net/event/march-2023-quarterly-meeting/
LOCATION:The Turn House\, 11130 Willow Bottom Dr\, Columbia\, MD\, 21044\, United States
CATEGORIES:Member Meeting
ATTACH;FMTTYPE=image/jpeg:https://msfda.net/wp-content/uploads/2023/01/copper_canyon.jpg
ORGANIZER;CN="MSFDA":MAILTO:msfda@msfda.net
END:VEVENT
END:VCALENDAR